BEGIN:VCALENDAR
VERSION:2.0
PRODID:-//Luften är Fri - ECPv5.9.0//NONSGML v1.0//EN
CALSCALE:GREGORIAN
METHOD:PUBLISH
X-WR-CALNAME:Luften är Fri
X-ORIGINAL-URL:https://www.luftenarfri.nu
X-WR-CALDESC:Händelser för Luften är Fri
BEGIN:VTIMEZONE
TZID:Europe/Stockholm
BEGIN:DAYLIGHT
TZOFFSETFROM:+0100
TZOFFSETTO:+0200
TZNAME:CEST
DTSTART:20210328T010000
END:DAYLIGHT
BEGIN:STANDARD
TZOFFSETFROM:+0200
TZOFFSETTO:+0100
TZNAME:CET
DTSTART:20211031T010000
END:STANDARD
END:VTIMEZONE
BEGIN:VEVENT
DTSTART;TZID=Europe/Stockholm:20210503T080000
DTEND;TZID=Europe/Stockholm:20210503T170000
DTSTAMP:20260423T071555
CREATED:20210503T124128Z
LAST-MODIFIED:20210507T132155Z
UID:23746-1620028800-1620061200@www.luftenarfri.nu
SUMMARY:Genom lundar mot Brotorp och Klisätra ängar – Upptäck Nackareservatet
DESCRIPTION:Nackareservatet är ett stort naturområde med varierad natur som ligger både inom Stockholms och Nacka kommun.  Inom reservatet finns många promenadstigar och motionsspår som även används för skidåkning snörika vintrar. Sickla ekpark kan användas bland annat för avkoppling\, lek och promenader.   \nFölj gångvägar från Bagarmossen eller Skarpnäck ut mot kulturmarkerna vid Brotorp. Brotorp är ett fint gammalt fisketorp vid Ältaåns strand som idag är används som klubbstuga för Skogsluffarnas orienteringsklubb. Fågelsången kring det lilla torpet och Ältaåns lummiga stränder är hänförande under våren. \nPaddling  och vandring\nVia ån kan man paddla upp i norra Nackareservatet. När du passerat bron följer du stigen upp hällmarken med ståtliga tallar. Ta genast stigen söderut som leder dig ut mot Klisätra ängar. Här breder ett ljust kulturlandskap ut sig ned mot Ältasjön med fina restaurerade ängsmarker. På de uppstickande hällarna kan du här slå sig ned för vila eller picknick. \nRunt gräsmarkerna växer gamla solexponerade träd\, av såväl ek som tall samt blommande buskar vilket är gynnsamt för många insekter.  Promenadvägen fram till Brotorp och Ältaån är lättillgänglig\, medan stigen upp mot hällmarkerna är kuperad. \nNu på våren vill vi särskilt uppmärksamma dig på att koppla hunden och att följa regler om eldning. Tänk på att lämna naturen som den var när du kom dit.
URL:https://www.luftenarfri.nu/evenemang/genom-lundar-mot-brotorp-och-klisatra-angar-upptack-nackareservatet/2021-05-03/
LOCATION:Nackareservatet i Stockholms stad\, Nackareservatet i Stockholms stad\, Stockholm\, Sverige
CATEGORIES:Skogsnära,Vardagsnära
ATTACH;FMTTYPE=image/jpeg:https://www.luftenarfri.nu/wp-content/uploads/2021/05/nackareservatet-webb_DSC8598.jpg
ORGANIZER;CN="Milj%26ouml%3Bf%26ouml%3Brvaltningen%20i%20Stockholms%20stad":MAILTO:miljoforvaltningen@stockholm.se
GEO:59.2849131;18.1469472
X-APPLE-STRUCTURED-LOCATION;VALUE=URI;X-ADDRESS=Nackareservatet i Stockholms stad Nackareservatet i Stockholms stad Stockholm Sverige;X-APPLE-RADIUS=500;X-TITLE=Nackareservatet i Stockholms stad:geo:18.1469472,59.2849131
END:VEVENT
END:VCALENDAR