BEGIN:VCALENDAR
VERSION:2.0
PRODID:-//Luften är Fri - ECPv5.9.0//NONSGML v1.0//EN
CALSCALE:GREGORIAN
METHOD:PUBLISH
X-WR-CALNAME:Luften är Fri
X-ORIGINAL-URL:https://www.luftenarfri.nu
X-WR-CALDESC:Händelser för Luften är Fri
BEGIN:VTIMEZONE
TZID:Europe/Stockholm
BEGIN:DAYLIGHT
TZOFFSETFROM:+0100
TZOFFSETTO:+0200
TZNAME:CEST
DTSTART:20210328T010000
END:DAYLIGHT
BEGIN:STANDARD
TZOFFSETFROM:+0200
TZOFFSETTO:+0100
TZNAME:CET
DTSTART:20211031T010000
END:STANDARD
END:VTIMEZONE
BEGIN:VEVENT
DTSTART;TZID=Europe/Stockholm:20210222T150000
DTEND;TZID=Europe/Stockholm:20210222T200000
DTSTAMP:20260423T003301
CREATED:20210217T095928Z
LAST-MODIFIED:20210217T095928Z
UID:7961-1614006000-1614024000@www.luftenarfri.nu
SUMMARY:Crazy on Ice
DESCRIPTION:Under följande dagar kommer fritidsledarna att tända grillen vid isarna. \nDet bjuds på korv och O´ boy. Glöm inte hjälmen. \nAktiviteten är riktad till dig i åk 4–6 men naturligtvis är alla åldrar välkomna. \nHär får du chansen att lära känna fritidsledarna och utbyta era idéer och tankar om hur ni vill ha det på er fritid. Musik och häftigt ljus kommer att finnas på plats. Om det inte finns is så kommer det att anordnas andra aktiviteter på plats \nmåndagen 22 februari kl. 15:00 – 20:00. Isbanan Ballhall\, Strömsnäsbruk.\ntisdagen 23 februari kl. 15:00 – 20:00. Rinken\, Markaryd\ntorsdagen 25 februari kl 13:00 – 15.00. Vivljunga hockeyrink \n 
URL:https://www.luftenarfri.nu/evenemang/crazy-on-ice/2021-02-22/
LOCATION:Markaryd\, Kungsgatan 35\, Markaryd\, 285 38
CATEGORIES:Vardagsnära
ATTACH;FMTTYPE=image/jpeg:https://www.luftenarfri.nu/wp-content/uploads/2021/02/is-parakning.jpg
GEO:56.5406145;13.7251075
X-APPLE-STRUCTURED-LOCATION;VALUE=URI;X-ADDRESS=Markaryd Kungsgatan 35 Markaryd 285 38;X-APPLE-RADIUS=500;X-TITLE=Kungsgatan 35:geo:13.7251075,56.5406145
END:VEVENT
END:VCALENDAR