BEGIN:VCALENDAR
VERSION:2.0
PRODID:-//Luften är Fri - ECPv5.9.0//NONSGML v1.0//EN
CALSCALE:GREGORIAN
METHOD:PUBLISH
X-WR-CALNAME:Luften är Fri
X-ORIGINAL-URL:https://www.luftenarfri.nu
X-WR-CALDESC:Händelser för Luften är Fri
BEGIN:VTIMEZONE
TZID:Europe/Stockholm
BEGIN:DAYLIGHT
TZOFFSETFROM:+0100
TZOFFSETTO:+0200
TZNAME:CEST
DTSTART:20210328T010000
END:DAYLIGHT
BEGIN:STANDARD
TZOFFSETFROM:+0200
TZOFFSETTO:+0100
TZNAME:CET
DTSTART:20211031T010000
END:STANDARD
END:VTIMEZONE
BEGIN:VEVENT
DTSTART;TZID=Europe/Stockholm:20210719T120000
DTEND;TZID=Europe/Stockholm:20210719T150000
DTSTAMP:20260423T053442
CREATED:20210702T093159Z
LAST-MODIFIED:20210702T093159Z
UID:30816-1626696000-1626706800@www.luftenarfri.nu
SUMMARY:Vandring i rullstol vid Farstalandet\, Gustavsberg
DESCRIPTION:Välkommen på en vandring med Anders Andrea på som tar oss genom ett av Värmdös finaste områden\, Farstalandet. Promenaden är helt anpassad för dig som sitter i rullstol. \nVi träffas vid vattenhjulet vid Gustavsbergs hamn för att sedan vandra vidare i ett område som bjuder på vacker natur. Under promenaden berättar Anders om områdets miljö och historia. Genom Farstalandet tar vi oss ner mot Södersved där promenaden slutar. Vid lämpligt ställe stannar vi till för att äta något gott som Anders ordnar till alla deltagare. Vid allergi\, säg till i förväg.
URL:https://www.luftenarfri.nu/evenemang/vandring-i-rullstol-vid-farstalandet-gustavsberg/2021-07-19/
LOCATION:Gustavsberg\, Odelbergs väg 1\, Gustavsberg\, 134 40\, Sverige
CATEGORIES:Vardagsnära
ATTACH;FMTTYPE=image/jpeg:https://www.luftenarfri.nu/wp-content/uploads/2021/07/Farstalandet.jpg
ORGANIZER;CN="Willut":MAILTO:anders@willut.se
GEO:59.3229578;18.3808968
X-APPLE-STRUCTURED-LOCATION;VALUE=URI;X-ADDRESS=Gustavsberg Odelbergs väg 1 Gustavsberg 134 40 Sverige;X-APPLE-RADIUS=500;X-TITLE=Odelbergs väg 1:geo:18.3808968,59.3229578
END:VEVENT
END:VCALENDAR