BEGIN:VCALENDAR
VERSION:2.0
PRODID:-//Luften är Fri - ECPv5.9.0//NONSGML v1.0//EN
CALSCALE:GREGORIAN
METHOD:PUBLISH
X-WR-CALNAME:Luften är Fri
X-ORIGINAL-URL:https://www.luftenarfri.nu
X-WR-CALDESC:Händelser för Luften är Fri
BEGIN:VTIMEZONE
TZID:Europe/Stockholm
BEGIN:DAYLIGHT
TZOFFSETFROM:+0100
TZOFFSETTO:+0200
TZNAME:CEST
DTSTART:20210328T010000
END:DAYLIGHT
BEGIN:STANDARD
TZOFFSETFROM:+0200
TZOFFSETTO:+0100
TZNAME:CET
DTSTART:20211031T010000
END:STANDARD
END:VTIMEZONE
BEGIN:VEVENT
DTSTART;TZID=Europe/Stockholm:20210708T150000
DTEND;TZID=Europe/Stockholm:20210708T170000
DTSTAMP:20260423T065606
CREATED:20210705T072655Z
LAST-MODIFIED:20210705T123956Z
UID:30871-1625756400-1625763600@www.luftenarfri.nu
SUMMARY:Upptäck livet i Gällstasjön
DESCRIPTION:Vi håvar längs med kanterna i Dockstaån vid Gällstasjön och ser vad för skoj vi kan få denna dag! Du kan undersöka dina fynd mer med en lupp eller varför inte ta ett kort i vårt fotoakvarium? \n Vi har faktablad och böcker med oss och svarar gärna på frågor och hjälper till med håvningen och artbestämning! \nSimma lugnt!
URL:https://www.luftenarfri.nu/evenemang/upptack-livet-i-gallstasjon/2021-07-08/
LOCATION:Gällstasjön 100\, Gällstasjön 100\, Docksta\, Ångermanland\, 87396\, Sverige
CATEGORIES:Skogsnära,Strandnära
ATTACH;FMTTYPE=image/jpeg:https://www.luftenarfri.nu/wp-content/uploads/2021/07/DSC_1314-Kvadratisk-Louise-Bergqvist.jpg
ORGANIZER;CN="naturum%20H%26ouml%3Bga%20Kusten":MAILTO:info@naturumhogakusten.se
GEO:63.063579;18.335235
X-APPLE-STRUCTURED-LOCATION;VALUE=URI;X-ADDRESS=Gällstasjön 100 Gällstasjön 100 Docksta Ångermanland 87396 Sverige;X-APPLE-RADIUS=500;X-TITLE=Gällstasjön 100:geo:18.335235,63.063579
END:VEVENT
END:VCALENDAR