BEGIN:VCALENDAR
VERSION:2.0
PRODID:-//Luften är Fri - ECPv5.9.0//NONSGML v1.0//EN
CALSCALE:GREGORIAN
METHOD:PUBLISH
X-WR-CALNAME:Luften är Fri
X-ORIGINAL-URL:https://www.luftenarfri.nu
X-WR-CALDESC:Händelser för Luften är Fri
BEGIN:VTIMEZONE
TZID:Europe/Stockholm
BEGIN:DAYLIGHT
TZOFFSETFROM:+0100
TZOFFSETTO:+0200
TZNAME:CEST
DTSTART:20210328T010000
END:DAYLIGHT
BEGIN:STANDARD
TZOFFSETFROM:+0200
TZOFFSETTO:+0100
TZNAME:CET
DTSTART:20211031T010000
END:STANDARD
END:VTIMEZONE
BEGIN:VEVENT
DTSTART;VALUE=DATE:20210420
DTEND;VALUE=DATE:20210421
DTSTAMP:20260423T043608
CREATED:20210420T095500Z
LAST-MODIFIED:20210429T135218Z
UID:19351-1618876800-1618963199@www.luftenarfri.nu
SUMMARY:Tipsrunda på FornWij!
DESCRIPTION:Hela Sveriges friluftsdag! \nTa med dig arbetskamrater\, skolkompisen\, mormor eller familjen till FornWijs stigar\, där finns en digital tipsrunda om allemansrätten från Naturvårdsverket. På Ockelbo kommuns hemsida finns instruktioner – gps-quiz\, ingen app. \nLär känna din kommun! På kommunens hemsida finns en krysslista med utflyktsmål och friluftsaktiviteter. \nVinnare av fototävlingen under mars blev Katja med hunden Eje. Fototävlingen fortsätter! \n 
URL:https://www.luftenarfri.nu/evenemang/tipsrunda-pa-fornwij/2021-04-20/
LOCATION:Fornwij Ockelbo\, FORN-VI 9\, Ockelbo\, 816 94\, Sverige
CATEGORIES:Skogsnära,Strandnära
ATTACH;FMTTYPE=image/jpeg:https://www.luftenarfri.nu/wp-content/uploads/2021/04/Vinnarbild-mars.jpeg
ORGANIZER;CN="F%26ouml%3Breningsalliansen%20Ockelbo":MAILTO:lena.h.foreningsalliansen@gmail.com
GEO:60.8940518;16.6986726
X-APPLE-STRUCTURED-LOCATION;VALUE=URI;X-ADDRESS=Fornwij Ockelbo FORN-VI 9 Ockelbo 816 94 Sverige;X-APPLE-RADIUS=500;X-TITLE=FORN-VI 9:geo:16.6986726,60.8940518
END:VEVENT
END:VCALENDAR