BEGIN:VCALENDAR
VERSION:2.0
PRODID:-//Luften är Fri - ECPv5.9.0//NONSGML v1.0//EN
CALSCALE:GREGORIAN
METHOD:PUBLISH
X-WR-CALNAME:Luften är Fri
X-ORIGINAL-URL:https://www.luftenarfri.nu
X-WR-CALDESC:Händelser för Luften är Fri
BEGIN:VTIMEZONE
TZID:Europe/Stockholm
BEGIN:DAYLIGHT
TZOFFSETFROM:+0100
TZOFFSETTO:+0200
TZNAME:CEST
DTSTART:20210328T010000
END:DAYLIGHT
BEGIN:STANDARD
TZOFFSETFROM:+0200
TZOFFSETTO:+0100
TZNAME:CET
DTSTART:20211031T010000
END:STANDARD
END:VTIMEZONE
BEGIN:VEVENT
DTSTART;TZID=Europe/Stockholm:20210506T140000
DTEND;TZID=Europe/Stockholm:20210506T150000
DTSTAMP:20260423T040217
CREATED:20210222T091146Z
LAST-MODIFIED:20210507T144951Z
UID:8283-1620309600-1620313200@www.luftenarfri.nu
SUMMARY:Promenera på Hälsans stig i Eskilstuna
DESCRIPTION:Promenera tillsammans med volontärer från Frivilligcentralen Eskilstuna. Vi går i små grupper. \nVarje torsdag kl. 14.00.  \nStart vid valvet vid sidan av Hotell Bolinder Munktell. \nVid regn ställer vi in. \n  \nHälsans stig är en promenadvänlig slinga i trevlig miljö. \nSlingan går huvudsakligen utmed ån i centrala Eskilstuna. \nDen är totalt 4 km lång men genom att gena över någon av broarna kan de som vill göra promenaden kortare. Tanken med Hälsans stig är att uppmuntra folk i alla åldrar till att motionera. \n 
URL:https://www.luftenarfri.nu/evenemang/promenera-pa-halsans-stig-i-eskilstuna/2021-05-06/
LOCATION:Portgatan 3\, Eskilstuna\, Portgatan 3\, Eskilstuna\, Södermanland\, 63344\, Sverige
CATEGORIES:Vardagsnära
ATTACH;FMTTYPE=image/jpeg:https://www.luftenarfri.nu/wp-content/uploads/2021/02/Bild-halsans-stig-Eskilstuna.jpg
ORGANIZER;CN="Funktionsr%26auml%3Btt%20S%26ouml%3Brmland":MAILTO:resurs@funktionsrattsormland.se
GEO:59.3803923;16.5269156
X-APPLE-STRUCTURED-LOCATION;VALUE=URI;X-ADDRESS=Portgatan 3 Eskilstuna Portgatan 3 Eskilstuna Södermanland 63344 Sverige;X-APPLE-RADIUS=500;X-TITLE=Portgatan 3:geo:16.5269156,59.3803923
END:VEVENT
END:VCALENDAR