BEGIN:VCALENDAR
VERSION:2.0
PRODID:-//Luften är Fri - ECPv5.9.0//NONSGML v1.0//EN
CALSCALE:GREGORIAN
METHOD:PUBLISH
X-WR-CALNAME:Luften är Fri
X-ORIGINAL-URL:https://www.luftenarfri.nu
X-WR-CALDESC:Händelser för Luften är Fri
BEGIN:VTIMEZONE
TZID:Europe/Stockholm
BEGIN:DAYLIGHT
TZOFFSETFROM:+0100
TZOFFSETTO:+0200
TZNAME:CEST
DTSTART:20210328T010000
END:DAYLIGHT
BEGIN:STANDARD
TZOFFSETFROM:+0200
TZOFFSETTO:+0100
TZNAME:CET
DTSTART:20211031T010000
END:STANDARD
END:VTIMEZONE
BEGIN:VEVENT
DTSTART;TZID=Europe/Stockholm:20210301T080000
DTEND;TZID=Europe/Stockholm:20210301T170000
DTSTAMP:20260422T230446
CREATED:20210301T111503Z
LAST-MODIFIED:20210301T111503Z
UID:10145-1614585600-1614618000@www.luftenarfri.nu
SUMMARY:Sportlovsbingo
DESCRIPTION:Kom ut i naturen på sportlovet tillsammans. Med sportlovsbingo blir det lättare att få med hela familjen eller kompisarna ut. Den som får bingo först kanske kan få något extra gott från picknick-korgen? Bingobrickan är framtagen av Ovanåkers kommun med funkar var än du är. Är sportlovet redan över? Sportlovsbingot går att göra hela vintern. Lycka till! \nKlicka här för att ladda ner bingobrickan! \n 
URL:https://www.luftenarfri.nu/evenemang/sportlovsbingo/2021-03-01/
LOCATION:där du bor
ATTACH;FMTTYPE=image/jpeg:https://www.luftenarfri.nu/wp-content/uploads/2021/03/Sportlovsbingo_luftenarfri-e1614597733379.jpg
ORGANIZER;CN="Luften%20%26auml%3Br%20fri":MAILTO:sanna.ameln@svensktfriluftsliv.se
END:VEVENT
END:VCALENDAR