BEGIN:VCALENDAR
VERSION:2.0
PRODID:-//Luften är Fri - ECPv5.9.0//NONSGML v1.0//EN
CALSCALE:GREGORIAN
METHOD:PUBLISH
X-WR-CALNAME:Luften är Fri
X-ORIGINAL-URL:https://www.luftenarfri.nu
X-WR-CALDESC:Händelser för Luften är Fri
BEGIN:VTIMEZONE
TZID:Europe/Stockholm
BEGIN:DAYLIGHT
TZOFFSETFROM:+0100
TZOFFSETTO:+0200
TZNAME:CEST
DTSTART:20210328T010000
END:DAYLIGHT
BEGIN:STANDARD
TZOFFSETFROM:+0200
TZOFFSETTO:+0100
TZNAME:CET
DTSTART:20211031T010000
END:STANDARD
END:VTIMEZONE
BEGIN:VEVENT
DTSTART;TZID=Europe/Stockholm:20210115T110000
DTEND;TZID=Europe/Stockholm:20210117T123000
DTSTAMP:20260422T214038
CREATED:20210115T143301Z
LAST-MODIFIED:20210115T144505Z
UID:1949-1610708400-1610886600@www.luftenarfri.nu
SUMMARY:Mysteriet vid BauerGården
DESCRIPTION:Det är inte så märkligt att John Bauer var fascinerad av de magiska omgivningarna kring Bunn. Här fanns gott om inspiration till de troll\, älvor och väsen han illustrerade. Vissa menar att skogen här fortfarande är magisk. Det sägs till exempel att den som tålmodigt lyssnar kan ha turen att få höra den magiska trollflöjt som sägs ljuda över Bunnsjöns vattenyta. \n\n\n\n\nMen vem är det som spelar? Någon verkar ha lämnat ledtrådar ute i den täta skogen. Vågar du ge dig ut i den trolska naturen och lösa mysteriet? \nDu köper ditt mysterium i receptionen och utgår från och återkommer till Bauergården. Rundan är ca 4\,5 km och tar ca 1\,5 timma och kostar 150kr /mysterium. \nGrillplats finns och grillkorg eller picknickkorg finns att köpa och förbokas på info@bauergarden.se. \nNi går rundan i grupp om max 6 personer för att få bästa upplevelse och varför inte dela in er i lag och se vem som löser mysteriet först? \nUnder vår och höst är receptionen öppen på helgerna men mellan maj och september även under veckorna\, kolla gärna upp öppettider innan ni åker på www.bauergarden.se \nVälkomna till mysteriet vid Bauergården!
URL:https://www.luftenarfri.nu/evenemang/mysteriet-vid-bauergarden/2021-01-15/
LOCATION:Bunn\, Bunn 1\, Gränna\, Jönköpings kommun\, 563 93\, Sverige
CATEGORIES:Skogsnära
ATTACH;FMTTYPE=image/jpeg:https://www.luftenarfri.nu/wp-content/uploads/2021/01/trolsk-skog-5.jpg
ORGANIZER;CN="Bauerg%26aring%3Brden%20i%20Bunn":MAILTO:info@bauergarden.se
GEO:57.93616;14.49143
X-APPLE-STRUCTURED-LOCATION;VALUE=URI;X-ADDRESS=Bunn Bunn 1 Gränna Jönköpings kommun 563 93 Sverige;X-APPLE-RADIUS=500;X-TITLE=Bunn 1:geo:14.49143,57.93616
END:VEVENT
END:VCALENDAR