BEGIN:VCALENDAR
VERSION:2.0
PRODID:-//Luften är Fri - ECPv5.9.0//NONSGML v1.0//EN
CALSCALE:GREGORIAN
METHOD:PUBLISH
X-WR-CALNAME:Luften är Fri
X-ORIGINAL-URL:https://www.luftenarfri.nu
X-WR-CALDESC:Händelser för Luften är Fri
BEGIN:VTIMEZONE
TZID:Europe/Stockholm
BEGIN:DAYLIGHT
TZOFFSETFROM:+0100
TZOFFSETTO:+0200
TZNAME:CEST
DTSTART:20210328T010000
END:DAYLIGHT
BEGIN:STANDARD
TZOFFSETFROM:+0200
TZOFFSETTO:+0100
TZNAME:CET
DTSTART:20211031T010000
END:STANDARD
END:VTIMEZONE
BEGIN:VEVENT
DTSTART;TZID=Europe/Stockholm:20210717T160000
DTEND;TZID=Europe/Stockholm:20210717T180000
DTSTAMP:20260423T083309
CREATED:20210702T093118Z
LAST-MODIFIED:20210702T093118Z
UID:30809-1626537600-1626544800@www.luftenarfri.nu
SUMMARY:Plogga med oss!
DESCRIPTION:Häng med på ploggning med Naturskyddsföreningen i Värmdö längs vackra stränderna på Ingarö! Vi springer/joggar/går och plockar skräp på stranden och stigarna. \nVi träffas kl 16 lördagen den 17.e och lördagen den 31.e juli\, nedanför Bistro Björkvik\, Björkviksvägen 24. De som vill kan samlas igen kl 17 på Bistron. Väl mött!
URL:https://www.luftenarfri.nu/evenemang/plogga-med-oss/2021-07-17/
LOCATION:Björkvik\, Björkviksvägen 24\, Ingarö
CATEGORIES:Strandnära
ATTACH;FMTTYPE=image/png:https://www.luftenarfri.nu/wp-content/uploads/2021/07/Plogga-skogsbild.png
GEO:59.2210974;18.5375862
X-APPLE-STRUCTURED-LOCATION;VALUE=URI;X-ADDRESS=Björkvik Björkviksvägen 24 Ingarö;X-APPLE-RADIUS=500;X-TITLE=Björkviksvägen 24:geo:18.5375862,59.2210974
END:VEVENT
END:VCALENDAR